BEGIN:VCALENDAR
VERSION:2.0
PRODID:-//IMATN Paramedical - ECPv6.13.2.1//NONSGML v1.0//EN
CALSCALE:GREGORIAN
METHOD:PUBLISH
X-WR-CALNAME:IMATN Paramedical
X-ORIGINAL-URL:https://www.imatnparamedical.com
X-WR-CALDESC:Events for IMATN Paramedical
REFRESH-INTERVAL;VALUE=DURATION:PT1H
X-Robots-Tag:noindex
X-PUBLISHED-TTL:PT1H
BEGIN:VTIMEZONE
TZID:UTC
BEGIN:STANDARD
TZOFFSETFROM:+0000
TZOFFSETTO:+0000
TZNAME:UTC
DTSTART:20230101T000000
END:STANDARD
END:VTIMEZONE
BEGIN:VEVENT
DTSTART;TZID=UTC:20241101T080000
DTEND;TZID=UTC:20241130T170000
DTSTAMP:20260423T174519
CREATED:20241021T060953Z
LAST-MODIFIED:20241021T060953Z
UID:3279-1730448000-1732986000@www.imatnparamedical.com
SUMMARY:Supplementary exam on Nov 2024\, in a selected exam centres.
DESCRIPTION:
URL:https://www.imatnparamedical.com/event/supplementary-exam-on-nov-2024-in-a-selected-exam-centres/
CATEGORIES:Event
ATTACH;FMTTYPE=image/jpeg:https://www.imatnparamedical.com/wp-content/uploads/2016/03/course_graphic_design_portfolio_feat.jpg
END:VEVENT
BEGIN:VEVENT
DTSTART;TZID=UTC:20240618T080000
DTEND;TZID=UTC:20240620T170000
DTSTAMP:20260423T174519
CREATED:20230601T040203Z
LAST-MODIFIED:20230601T040203Z
UID:2681-1718697600-1718902800@www.imatnparamedical.com
SUMMARY:FINAL EXAM
DESCRIPTION:
URL:https://www.imatnparamedical.com/event/final-exam-2/
LOCATION:West Campus\, Dr. N.R.T.R. Thiagarajan Hony. State Secretary\, IMA TNSB HQs. Building\, Doctors Colony\, Bharathi Nagar 1st Main Road\, Tambaram West\, Chennai-600 045.\, Chennai\, India
CATEGORIES:Event
ATTACH;FMTTYPE=image/jpeg:https://www.imatnparamedical.com/wp-content/uploads/2016/03/course_graphic_design_portfolio_feat.jpg
ORGANIZER;CN="IMATN Paramedical":MAILTO:imatamilnadu@gmail.com
END:VEVENT
BEGIN:VEVENT
DTSTART;TZID=UTC:20240610T080000
DTEND;TZID=UTC:20240615T170000
DTSTAMP:20260423T174519
CREATED:20230601T040037Z
LAST-MODIFIED:20230601T040037Z
UID:2679-1718006400-1718470800@www.imatnparamedical.com
SUMMARY:FINAL EXAM
DESCRIPTION:
URL:https://www.imatnparamedical.com/event/final-exam/
LOCATION:West Campus\, Dr. N.R.T.R. Thiagarajan Hony. State Secretary\, IMA TNSB HQs. Building\, Doctors Colony\, Bharathi Nagar 1st Main Road\, Tambaram West\, Chennai-600 045.\, Chennai\, India
CATEGORIES:Event
ATTACH;FMTTYPE=image/jpeg:https://www.imatnparamedical.com/wp-content/uploads/2016/03/course_graphic_design_portfolio_feat.jpg
ORGANIZER;CN="IMATN Paramedical":MAILTO:imatamilnadu@gmail.com
END:VEVENT
BEGIN:VEVENT
DTSTART;TZID=UTC:20240520T080000
DTEND;TZID=UTC:20240524T170000
DTSTAMP:20260423T174519
CREATED:20230601T035821Z
LAST-MODIFIED:20230601T035821Z
UID:2677-1716192000-1716570000@www.imatnparamedical.com
SUMMARY:MODEL II
DESCRIPTION:
URL:https://www.imatnparamedical.com/event/model-ii/
CATEGORIES:Event
ATTACH;FMTTYPE=image/jpeg:https://www.imatnparamedical.com/wp-content/uploads/2016/03/course_economics_portfolio_feat.jpg
END:VEVENT
BEGIN:VEVENT
DTSTART;TZID=UTC:20240506T080000
DTEND;TZID=UTC:20240510T170000
DTSTAMP:20260423T174519
CREATED:20230601T035642Z
LAST-MODIFIED:20230601T035642Z
UID:2675-1714982400-1715360400@www.imatnparamedical.com
SUMMARY:MODEL I
DESCRIPTION:
URL:https://www.imatnparamedical.com/event/model-i-2/
CATEGORIES:Event
ATTACH;FMTTYPE=image/jpeg:https://www.imatnparamedical.com/wp-content/uploads/2016/03/course_economics_portfolio_feat.jpg
END:VEVENT
BEGIN:VEVENT
DTSTART;TZID=UTC:20240504T080000
DTEND;TZID=UTC:20240504T170000
DTSTAMP:20260423T174519
CREATED:20230601T035506Z
LAST-MODIFIED:20230601T035506Z
UID:2673-1714809600-1714842000@www.imatnparamedical.com
SUMMARY:MODEL I
DESCRIPTION:
URL:https://www.imatnparamedical.com/event/model-i/
CATEGORIES:Event
ATTACH;FMTTYPE=image/jpeg:https://www.imatnparamedical.com/wp-content/uploads/2016/03/course_economics_portfolio_feat.jpg
END:VEVENT
BEGIN:VEVENT
DTSTART;TZID=UTC:20240429T080000
DTEND;TZID=UTC:20240429T170000
DTSTAMP:20260423T174519
CREATED:20230601T035253Z
LAST-MODIFIED:20230601T035253Z
UID:2671-1714377600-1714410000@www.imatnparamedical.com
SUMMARY:INTERNAL EXAM  - II
DESCRIPTION:
URL:https://www.imatnparamedical.com/event/internal-exam-ii-2/
LOCATION:West Campus\, Dr. N.R.T.R. Thiagarajan Hony. State Secretary\, IMA TNSB HQs. Building\, Doctors Colony\, Bharathi Nagar 1st Main Road\, Tambaram West\, Chennai-600 045.\, Chennai\, India
CATEGORIES:Event
ATTACH;FMTTYPE=image/jpeg:https://www.imatnparamedical.com/wp-content/uploads/2016/03/course_graphic_design_portfolio_feat.jpg
ORGANIZER;CN="IMATN Paramedical":MAILTO:imatamilnadu@gmail.com
END:VEVENT
BEGIN:VEVENT
DTSTART;TZID=UTC:20240422T080000
DTEND;TZID=UTC:20240426T170000
DTSTAMP:20260423T174519
CREATED:20230601T035152Z
LAST-MODIFIED:20230601T035152Z
UID:2669-1713772800-1714150800@www.imatnparamedical.com
SUMMARY:INTERNAL EXAM  - II
DESCRIPTION:
URL:https://www.imatnparamedical.com/event/internal-exam-ii/
LOCATION:West Campus\, Dr. N.R.T.R. Thiagarajan Hony. State Secretary\, IMA TNSB HQs. Building\, Doctors Colony\, Bharathi Nagar 1st Main Road\, Tambaram West\, Chennai-600 045.\, Chennai\, India
CATEGORIES:Event
ATTACH;FMTTYPE=image/jpeg:https://www.imatnparamedical.com/wp-content/uploads/2016/03/course_graphic_design_portfolio_feat.jpg
ORGANIZER;CN="IMATN Paramedical":MAILTO:imatamilnadu@gmail.com
END:VEVENT
BEGIN:VEVENT
DTSTART;TZID=UTC:20240226T080000
DTEND;TZID=UTC:20240229T170000
DTSTAMP:20260423T174519
CREATED:20230601T034657Z
LAST-MODIFIED:20230601T034657Z
UID:2667-1708934400-1709226000@www.imatnparamedical.com
SUMMARY:CLINICAL TRAINING
DESCRIPTION:
URL:https://www.imatnparamedical.com/event/clinical-training-15/
LOCATION:West Campus\, Dr. N.R.T.R. Thiagarajan Hony. State Secretary\, IMA TNSB HQs. Building\, Doctors Colony\, Bharathi Nagar 1st Main Road\, Tambaram West\, Chennai-600 045.\, Chennai\, India
CATEGORIES:Event
ATTACH;FMTTYPE=image/jpeg:https://www.imatnparamedical.com/wp-content/uploads/2023/05/politics_seminar_event_feat.jpg
ORGANIZER;CN="IMATN Paramedical":MAILTO:imatamilnadu@gmail.com
END:VEVENT
BEGIN:VEVENT
DTSTART;TZID=UTC:20240219T080000
DTEND;TZID=UTC:20240223T170000
DTSTAMP:20260423T174519
CREATED:20230601T034525Z
LAST-MODIFIED:20230601T034525Z
UID:2665-1708329600-1708707600@www.imatnparamedical.com
SUMMARY:CLINICAL TRAINING
DESCRIPTION:
URL:https://www.imatnparamedical.com/event/clinical-training-14/
LOCATION:West Campus\, Dr. N.R.T.R. Thiagarajan Hony. State Secretary\, IMA TNSB HQs. Building\, Doctors Colony\, Bharathi Nagar 1st Main Road\, Tambaram West\, Chennai-600 045.\, Chennai\, India
CATEGORIES:Event
ATTACH;FMTTYPE=image/jpeg:https://www.imatnparamedical.com/wp-content/uploads/2023/05/politics_seminar_event_feat.jpg
ORGANIZER;CN="IMATN Paramedical":MAILTO:imatamilnadu@gmail.com
END:VEVENT
BEGIN:VEVENT
DTSTART;TZID=UTC:20240212T080000
DTEND;TZID=UTC:20240217T170000
DTSTAMP:20260423T174519
CREATED:20230601T034326Z
LAST-MODIFIED:20230601T034326Z
UID:2663-1707724800-1708189200@www.imatnparamedical.com
SUMMARY:CLINICAL TRAINING
DESCRIPTION:
URL:https://www.imatnparamedical.com/event/clinical-training-13/
LOCATION:West Campus\, Dr. N.R.T.R. Thiagarajan Hony. State Secretary\, IMA TNSB HQs. Building\, Doctors Colony\, Bharathi Nagar 1st Main Road\, Tambaram West\, Chennai-600 045.\, Chennai\, India
CATEGORIES:Event
ATTACH;FMTTYPE=image/jpeg:https://www.imatnparamedical.com/wp-content/uploads/2023/05/politics_seminar_event_feat.jpg
ORGANIZER;CN="IMATN Paramedical":MAILTO:imatamilnadu@gmail.com
END:VEVENT
BEGIN:VEVENT
DTSTART;TZID=UTC:20240205T080000
DTEND;TZID=UTC:20240209T170000
DTSTAMP:20260423T174519
CREATED:20230601T033531Z
LAST-MODIFIED:20230601T033531Z
UID:2661-1707120000-1707498000@www.imatnparamedical.com
SUMMARY:CLINICAL TRAINING
DESCRIPTION:
URL:https://www.imatnparamedical.com/event/clinical-training-12/
LOCATION:West Campus\, Dr. N.R.T.R. Thiagarajan Hony. State Secretary\, IMA TNSB HQs. Building\, Doctors Colony\, Bharathi Nagar 1st Main Road\, Tambaram West\, Chennai-600 045.\, Chennai\, India
CATEGORIES:Event
ATTACH;FMTTYPE=image/jpeg:https://www.imatnparamedical.com/wp-content/uploads/2023/05/politics_seminar_event_feat.jpg
ORGANIZER;CN="IMATN Paramedical":MAILTO:imatamilnadu@gmail.com
END:VEVENT
BEGIN:VEVENT
DTSTART;TZID=UTC:20240201T080000
DTEND;TZID=UTC:20240203T170000
DTSTAMP:20260423T174519
CREATED:20230601T033147Z
LAST-MODIFIED:20230601T033147Z
UID:2659-1706774400-1706979600@www.imatnparamedical.com
SUMMARY:CLINICAL TRAINING
DESCRIPTION:
URL:https://www.imatnparamedical.com/event/clinical-training-11/
LOCATION:West Campus\, Dr. N.R.T.R. Thiagarajan Hony. State Secretary\, IMA TNSB HQs. Building\, Doctors Colony\, Bharathi Nagar 1st Main Road\, Tambaram West\, Chennai-600 045.\, Chennai\, India
CATEGORIES:Event
ATTACH;FMTTYPE=image/jpeg:https://www.imatnparamedical.com/wp-content/uploads/2023/05/politics_seminar_event_feat.jpg
ORGANIZER;CN="IMATN Paramedical":MAILTO:imatamilnadu@gmail.com
END:VEVENT
BEGIN:VEVENT
DTSTART;TZID=UTC:20231218T080000
DTEND;TZID=UTC:20231222T170000
DTSTAMP:20260423T174519
CREATED:20230601T032533Z
LAST-MODIFIED:20230601T032533Z
UID:2657-1702886400-1703264400@www.imatnparamedical.com
SUMMARY:INTERNAL EXAM-I
DESCRIPTION:
URL:https://www.imatnparamedical.com/event/internal-exam-i-2/
LOCATION:West Campus\, Dr. N.R.T.R. Thiagarajan Hony. State Secretary\, IMA TNSB HQs. Building\, Doctors Colony\, Bharathi Nagar 1st Main Road\, Tambaram West\, Chennai-600 045.\, Chennai\, India
CATEGORIES:Event
ATTACH;FMTTYPE=image/jpeg:https://www.imatnparamedical.com/wp-content/uploads/2023/05/politics_seminar_event_feat.jpg
ORGANIZER;CN="IMATN Paramedical":MAILTO:imatamilnadu@gmail.com
END:VEVENT
BEGIN:VEVENT
DTSTART;TZID=UTC:20231215T080000
DTEND;TZID=UTC:20231216T170000
DTSTAMP:20260423T174519
CREATED:20230601T031457Z
LAST-MODIFIED:20230601T031457Z
UID:2655-1702627200-1702746000@www.imatnparamedical.com
SUMMARY:INTERNAL EXAM-I
DESCRIPTION:
URL:https://www.imatnparamedical.com/event/internal-exam-i/
CATEGORIES:Event
ATTACH;FMTTYPE=image/jpeg:https://www.imatnparamedical.com/wp-content/uploads/2016/03/graphic_design_single_course_portfolio.jpg
END:VEVENT
BEGIN:VEVENT
DTSTART;TZID=UTC:20231127T080000
DTEND;TZID=UTC:20231130T170000
DTSTAMP:20260423T174519
CREATED:20230601T031244Z
LAST-MODIFIED:20230601T031244Z
UID:2653-1701072000-1701363600@www.imatnparamedical.com
SUMMARY:CLINICAL TRAINING
DESCRIPTION:
URL:https://www.imatnparamedical.com/event/clinical-training-10/
LOCATION:West Campus\, Dr. N.R.T.R. Thiagarajan Hony. State Secretary\, IMA TNSB HQs. Building\, Doctors Colony\, Bharathi Nagar 1st Main Road\, Tambaram West\, Chennai-600 045.\, Chennai\, India
CATEGORIES:Event
ATTACH;FMTTYPE=image/jpeg:https://www.imatnparamedical.com/wp-content/uploads/2023/05/politics_seminar_event_feat.jpg
ORGANIZER;CN="IMATN Paramedical":MAILTO:imatamilnadu@gmail.com
END:VEVENT
BEGIN:VEVENT
DTSTART;TZID=UTC:20231120T080000
DTEND;TZID=UTC:20231124T170000
DTSTAMP:20260423T174519
CREATED:20230601T030735Z
LAST-MODIFIED:20230601T030735Z
UID:2651-1700467200-1700845200@www.imatnparamedical.com
SUMMARY:CLINICAL TRAINING
DESCRIPTION:
URL:https://www.imatnparamedical.com/event/clinical-training-9/
LOCATION:West Campus\, Dr. N.R.T.R. Thiagarajan Hony. State Secretary\, IMA TNSB HQs. Building\, Doctors Colony\, Bharathi Nagar 1st Main Road\, Tambaram West\, Chennai-600 045.\, Chennai\, India
CATEGORIES:Event
ATTACH;FMTTYPE=image/jpeg:https://www.imatnparamedical.com/wp-content/uploads/2023/05/politics_seminar_event_feat.jpg
ORGANIZER;CN="IMATN Paramedical":MAILTO:imatamilnadu@gmail.com
END:VEVENT
BEGIN:VEVENT
DTSTART;TZID=UTC:20231115T080000
DTEND;TZID=UTC:20231118T170000
DTSTAMP:20260423T174519
CREATED:20230601T030543Z
LAST-MODIFIED:20230601T030543Z
UID:2649-1700035200-1700326800@www.imatnparamedical.com
SUMMARY:CLINICAL TRAINING
DESCRIPTION:
URL:https://www.imatnparamedical.com/event/clinical-training-8/
LOCATION:West Campus\, Dr. N.R.T.R. Thiagarajan Hony. State Secretary\, IMA TNSB HQs. Building\, Doctors Colony\, Bharathi Nagar 1st Main Road\, Tambaram West\, Chennai-600 045.\, Chennai\, India
CATEGORIES:Event
ATTACH;FMTTYPE=image/jpeg:https://www.imatnparamedical.com/wp-content/uploads/2023/05/politics_seminar_event_feat.jpg
ORGANIZER;CN="IMATN Paramedical":MAILTO:imatamilnadu@gmail.com
END:VEVENT
BEGIN:VEVENT
DTSTART;TZID=UTC:20231106T080000
DTEND;TZID=UTC:20231110T170000
DTSTAMP:20260423T174519
CREATED:20230601T030344Z
LAST-MODIFIED:20230601T030344Z
UID:2647-1699257600-1699635600@www.imatnparamedical.com
SUMMARY:CLINICAL TRAINING
DESCRIPTION:
URL:https://www.imatnparamedical.com/event/clinical-training-7/
LOCATION:West Campus\, Dr. N.R.T.R. Thiagarajan Hony. State Secretary\, IMA TNSB HQs. Building\, Doctors Colony\, Bharathi Nagar 1st Main Road\, Tambaram West\, Chennai-600 045.\, Chennai\, India
CATEGORIES:Event
ATTACH;FMTTYPE=image/jpeg:https://www.imatnparamedical.com/wp-content/uploads/2023/05/politics_seminar_event_feat.jpg
ORGANIZER;CN="IMATN Paramedical":MAILTO:imatamilnadu@gmail.com
END:VEVENT
BEGIN:VEVENT
DTSTART;TZID=UTC:20231101T080000
DTEND;TZID=UTC:20231104T170000
DTSTAMP:20260423T174519
CREATED:20230601T030229Z
LAST-MODIFIED:20230601T030229Z
UID:2645-1698825600-1699117200@www.imatnparamedical.com
SUMMARY:CLINICAL TRAINING
DESCRIPTION:
URL:https://www.imatnparamedical.com/event/clinical-training-6/
LOCATION:West Campus\, Dr. N.R.T.R. Thiagarajan Hony. State Secretary\, IMA TNSB HQs. Building\, Doctors Colony\, Bharathi Nagar 1st Main Road\, Tambaram West\, Chennai-600 045.\, Chennai\, India
CATEGORIES:Event
ATTACH;FMTTYPE=image/jpeg:https://www.imatnparamedical.com/wp-content/uploads/2023/05/politics_seminar_event_feat.jpg
ORGANIZER;CN="IMATN Paramedical":MAILTO:imatamilnadu@gmail.com
END:VEVENT
BEGIN:VEVENT
DTSTART;TZID=UTC:20231031T080000
DTEND;TZID=UTC:20231031T170000
DTSTAMP:20260423T174519
CREATED:20230601T025112Z
LAST-MODIFIED:20230601T025112Z
UID:2643-1698739200-1698771600@www.imatnparamedical.com
SUMMARY:LAST DATE OF NEW ADMISSION
DESCRIPTION:
URL:https://www.imatnparamedical.com/event/last-date-of-new-admission/
LOCATION:West Campus\, Dr. N.R.T.R. Thiagarajan Hony. State Secretary\, IMA TNSB HQs. Building\, Doctors Colony\, Bharathi Nagar 1st Main Road\, Tambaram West\, Chennai-600 045.\, Chennai\, India
CATEGORIES:Event
ATTACH;FMTTYPE=image/jpeg:https://www.imatnparamedical.com/wp-content/uploads/2016/03/course_graphic_design_portfolio_feat.jpg
ORGANIZER;CN="IMATN Paramedical":MAILTO:imatamilnadu@gmail.com
END:VEVENT
BEGIN:VEVENT
DTSTART;TZID=UTC:20230925T080000
DTEND;TZID=UTC:20230930T170000
DTSTAMP:20260423T174519
CREATED:20230601T024757Z
LAST-MODIFIED:20230601T024757Z
UID:2641-1695628800-1696093200@www.imatnparamedical.com
SUMMARY:CLINICAL TRAINING
DESCRIPTION:
URL:https://www.imatnparamedical.com/event/clinical-training-5/
LOCATION:West Campus\, Dr. N.R.T.R. Thiagarajan Hony. State Secretary\, IMA TNSB HQs. Building\, Doctors Colony\, Bharathi Nagar 1st Main Road\, Tambaram West\, Chennai-600 045.\, Chennai\, India
CATEGORIES:Event
ATTACH;FMTTYPE=image/jpeg:https://www.imatnparamedical.com/wp-content/uploads/2017/11/student_fundraiser_event_feat.jpg
ORGANIZER;CN="IMATN Paramedical":MAILTO:imatamilnadu@gmail.com
END:VEVENT
BEGIN:VEVENT
DTSTART;TZID=UTC:20230919T080000
DTEND;TZID=UTC:20230922T170000
DTSTAMP:20260423T174519
CREATED:20230601T024542Z
LAST-MODIFIED:20230601T024542Z
UID:2639-1695110400-1695402000@www.imatnparamedical.com
SUMMARY:CLINICAL TRAINING
DESCRIPTION:
URL:https://www.imatnparamedical.com/event/clinical-training-4/
LOCATION:West Campus\, Dr. N.R.T.R. Thiagarajan Hony. State Secretary\, IMA TNSB HQs. Building\, Doctors Colony\, Bharathi Nagar 1st Main Road\, Tambaram West\, Chennai-600 045.\, Chennai\, India
CATEGORIES:Event
ATTACH;FMTTYPE=image/jpeg:https://www.imatnparamedical.com/wp-content/uploads/2023/05/coures.jpg
ORGANIZER;CN="IMATN Paramedical":MAILTO:imatamilnadu@gmail.com
END:VEVENT
BEGIN:VEVENT
DTSTART;TZID=UTC:20230911T080000
DTEND;TZID=UTC:20230916T170000
DTSTAMP:20260423T174519
CREATED:20230531T114607Z
LAST-MODIFIED:20230531T114730Z
UID:2632-1694419200-1694883600@www.imatnparamedical.com
SUMMARY:CLINICAL TRAINING
DESCRIPTION:
URL:https://www.imatnparamedical.com/event/clinical-training-3/
LOCATION:West Campus\, Dr. N.R.T.R. Thiagarajan Hony. State Secretary\, IMA TNSB HQs. Building\, Doctors Colony\, Bharathi Nagar 1st Main Road\, Tambaram West\, Chennai-600 045.\, Chennai\, India
CATEGORIES:Event
ATTACH;FMTTYPE=image/jpeg:https://www.imatnparamedical.com/wp-content/uploads/2023/05/single_page_course_2.jpg
ORGANIZER;CN="IMATN Paramedical":MAILTO:imatamilnadu@gmail.com
END:VEVENT
BEGIN:VEVENT
DTSTART;TZID=UTC:20230904T080000
DTEND;TZID=UTC:20230908T170000
DTSTAMP:20260423T174519
CREATED:20230531T112740Z
LAST-MODIFIED:20230531T113240Z
UID:2623-1693814400-1694192400@www.imatnparamedical.com
SUMMARY:CLINICAL TRAINING
DESCRIPTION:
URL:https://www.imatnparamedical.com/event/clinical-training-2/
LOCATION:West Campus\, Dr. N.R.T.R. Thiagarajan Hony. State Secretary\, IMA TNSB HQs. Building\, Doctors Colony\, Bharathi Nagar 1st Main Road\, Tambaram West\, Chennai-600 045.\, Chennai\, India
CATEGORIES:Event
ATTACH;FMTTYPE=image/jpeg:https://www.imatnparamedical.com/wp-content/uploads/2023/05/politics_seminar_event_feat.jpg
ORGANIZER;CN="IMATN Paramedical":MAILTO:imatamilnadu@gmail.com
END:VEVENT
BEGIN:VEVENT
DTSTART;TZID=UTC:20230901T080000
DTEND;TZID=UTC:20230902T050000
DTSTAMP:20260423T174519
CREATED:20230531T111812Z
LAST-MODIFIED:20230531T113140Z
UID:2628-1693555200-1693630800@www.imatnparamedical.com
SUMMARY:CLINICAL TRAINING
DESCRIPTION:
URL:https://www.imatnparamedical.com/event/clinical-training/
LOCATION:West Campus\, Dr. N.R.T.R. Thiagarajan Hony. State Secretary\, IMA TNSB HQs. Building\, Doctors Colony\, Bharathi Nagar 1st Main Road\, Tambaram West\, Chennai-600 045.\, Chennai\, India
CATEGORIES:Event
ATTACH;FMTTYPE=image/jpeg:https://www.imatnparamedical.com/wp-content/uploads/2016/03/english_seminar_event_feat.jpg
ORGANIZER;CN="IMATN Paramedical":MAILTO:imatamilnadu@gmail.com
END:VEVENT
BEGIN:VEVENT
DTSTART;TZID=UTC:20230703T080000
DTEND;TZID=UTC:20230707T050000
DTSTAMP:20260423T174519
CREATED:20230531T105545Z
LAST-MODIFIED:20230531T113329Z
UID:2619-1688371200-1688706000@www.imatnparamedical.com
SUMMARY:ACADEMIC YEAR START
DESCRIPTION:
URL:https://www.imatnparamedical.com/event/academic-year-start/
LOCATION:West Campus\, Dr. N.R.T.R. Thiagarajan Hony. State Secretary\, IMA TNSB HQs. Building\, Doctors Colony\, Bharathi Nagar 1st Main Road\, Tambaram West\, Chennai-600 045.\, Chennai\, India
CATEGORIES:Event
ATTACH;FMTTYPE=image/jpeg:https://www.imatnparamedical.com/wp-content/uploads/2017/11/student_fundraiser_event_feat.jpg
ORGANIZER;CN="IMATN Paramedical":MAILTO:imatamilnadu@gmail.com
END:VEVENT
BEGIN:VEVENT
DTSTART;TZID=UTC:20230701T080000
DTEND;TZID=UTC:20230701T170000
DTSTAMP:20260423T174519
CREATED:20230531T102538Z
LAST-MODIFIED:20230531T113639Z
UID:2610-1688198400-1688230800@www.imatnparamedical.com
SUMMARY:NATIONAL DOCTOR'S DAY
DESCRIPTION:
URL:https://www.imatnparamedical.com/event/national-doctors-day/
LOCATION:West Campus\, Dr. N.R.T.R. Thiagarajan Hony. State Secretary\, IMA TNSB HQs. Building\, Doctors Colony\, Bharathi Nagar 1st Main Road\, Tambaram West\, Chennai-600 045.\, Chennai\, India
CATEGORIES:Event
ATTACH;FMTTYPE=image/jpeg:https://www.imatnparamedical.com/wp-content/uploads/2023/05/politics_seminar_event_feat.jpg
ORGANIZER;CN="IMATN Paramedical":MAILTO:imatamilnadu@gmail.com
END:VEVENT
END:VCALENDAR